BEGIN:VCALENDAR
VERSION:2.0
PRODID:-//Tukios.com/
BEGIN:VEVENT
UID:c844442a-208f-413e-ab99-ea34739f7a53@www.taylorstinewaid.com
DTSTAMP:20260423T171148Z
DTSTART:20260502T160000Z
DTEND:20260502T170000Z
SUMMARY:Memorial Service
DESCRIPTION:
URL:https://www.taylorstinewaid.com/obituaries/daniel-lau
LOCATION: 300 Logan St  Merrill WI 54452
GEO:45.1824702;-89.6988726
END:VEVENT
END:VCALENDAR