BEGIN:VCALENDAR
VERSION:2.0
PRODID:-//Tukios.com/
BEGIN:VEVENT
UID:1bdd1a2d-93d9-48d5-b711-62cdfe652612@www.taylorstinewaid.com
DTSTAMP:20260423T171238Z
DTSTART:20260502T140000Z
DTEND:20260502T160000Z
SUMMARY:Visitation
DESCRIPTION:
URL:https://www.taylorstinewaid.com/obituaries/daniel-lau
LOCATION: 300 Logan St  Merrill WI 54452
GEO:45.1824702;-89.6988726
END:VEVENT
END:VCALENDAR