BEGIN:VCALENDAR
VERSION:2.0
PRODID:-//Tukios.com/
BEGIN:VEVENT
UID:2ca74687-c67b-44d9-93e9-0dfb50bf3da1@www.taylorstinewaid.com
DTSTAMP:20260423T171148Z
DTSTART:20260501T210000Z
DTEND:20260502T000000Z
SUMMARY:Visitation
DESCRIPTION:
URL:https://www.taylorstinewaid.com/obituaries/daniel-lau
LOCATION: 903 E 3rd St  Merrill WI 54452
GEO:45.1823159;-89.6875941
END:VEVENT
END:VCALENDAR